BEGIN:VCALENDAR
VERSION:2.0
PRODID:-//eventon.com NONSGML v1.0//EN
CALSCALE:GREGORIAN
METHOD:PUBLISH
BEGIN:VEVENT
UID:69e5ff4a18630
DTSTAMP:20260420T102618Z
DTSTART:20231116T080000Z
DTEND:20231116T160000Z
LOCATION:La Cité Toulouse 55 Av. Louis Breguet\,  31400 Toulouse
SUMMARY:STOCKAGE DE L'ENERGIE\,  OU EN EST-ON ?
DESCRIPTION:Pour accompagner l’essor des énergies renouvelables (solaire
  et éolien) et pallier la variabilité de la production\, &nbsp;l’augmen
 tation des capacités de stockage de l’électricité est une nécessité.
  Pour faire le point sur la situation\, &nbsp;l’agence AD’OCC et le Pô
 le de compétitivité Derbi organisent une journée dédiée au stockage st
 ationnaire de l’énergie électrique le[..]\nhttps://pole-derbi.com/event
 s/stockage-de-lenergie-ou-en-est-on/
URL:https://pole-derbi.com/events/stockage-de-lenergie-ou-en-est-on/
END:VEVENT
END:VCALENDAR