BEGIN:VCALENDAR
VERSION:2.0
PRODID:-//eventon.com NONSGML v1.0//EN
CALSCALE:GREGORIAN
METHOD:PUBLISH
BEGIN:VEVENT
UID:69e4d38a5d4f8
DTSTAMP:20260419T130722Z
DTSTART:20230912T153000Z
DTEND:20230912T190000Z
LOCATION:Ancienne Faculté de Médecine de Montpellier 2 rue de l'Ecole de Médecine - 34090 Montpellier
SUMMARY:AFTERWORK INTERPOLES "MedVallée" #4
DESCRIPTION:Retrouvez les pôles de compétitivité Derbi\,  Agri Sud-Ouest
  Innovation\,  Aqua Valley et Eurobiomed dans le cadre du projet MedVallée
  de la Métropole de Montpellier pour un moment d&#8217;échanges le : MARD
 I 12 SEPTEMBRE 2023 à 17h30à l&#8217;ancienne Faculté de médecine de Mo
 ntpellier(2 rue de l&#8217;Ecole de Médecine) Quartier Ecusson &#8211;[..]
 \nhttps://pole-derbi.com/events/after-work-interpoles-medvallee-4/
URL:https://pole-derbi.com/events/after-work-interpoles-medvallee-4/
END:VEVENT
END:VCALENDAR