BEGIN:VCALENDAR
VERSION:2.0
PRODID:-//eventon.com NONSGML v1.0//EN
CALSCALE:GREGORIAN
METHOD:PUBLISH
BEGIN:VEVENT
UID:69e88a9701802
DTSTAMP:20260422T084511Z
DTSTART:20230628T070000Z
DTEND:20230628T160000Z
LOCATION:Domaine des Grands Chais Domaine des Grands Chais 34130 Mauguio
SUMMARY:Transitions invest 2023
DESCRIPTION:La CCI Hérault organise un événement pour soutenir la réali
 sation des projets de développement des entreprises régionales.&nbsp;TRAN
 SITIONS INVEST est axé sur les outils de financement permettant aux entrep
 rises d’accélérer leur croissance et leurs transitions\,  avec un focus
  spécifique sur le financement de la Transition Energétique. Mercredi 28 
 juin 2023 &#8211;[..]\nhttps://pole-derbi.com/events/transitions-invest-202
 3/
URL:https://pole-derbi.com/events/transitions-invest-2023/
END:VEVENT
END:VCALENDAR