BEGIN:VCALENDAR
VERSION:2.0
PRODID:-//eventon.com NONSGML v1.0//EN
CALSCALE:GREGORIAN
METHOD:PUBLISH
BEGIN:VEVENT
UID:69e88b9f5d3f6
DTSTAMP:20260422T084935Z
DTSTART:20230216T123000Z
DTEND:20230216T164500Z
LOCATION:
SUMMARY:L’HYDROGENE\,  levier de décarbonation pour la filière agro-alimentaire
DESCRIPTION:La maîtrise des émissions de&nbsp;CO2&nbsp;est l’un des enj
 eux majeurs du 21e&nbsp;siècle. Les objectifs de&nbsp;décarbonation&nbsp;
 s’imposent de plus en plus fermement aux industriels et notamment aux ent
 reprises de l’agroalimentaire qui doivent assurer la sécurité alimentai
 re d’une population croissante tout en réduisant leurs&nbsp;émissions d
 e gaz à effets de serre. Sourcing de matières premières\, [..]\nhttps://
 pole-derbi.com/events/lhydrogene-levier-de-decarbonation-pour-la-filiere-ag
 ro-alimentaire/
URL:https://pole-derbi.com/events/lhydrogene-levier-de-decarbonation-pour-la-filiere-agro-alimentaire/
END:VEVENT
END:VCALENDAR